{"text_format":"1","workbook":"xlsx","n_sheets":4,"sheets":["入力用","集計用（医療機関情報）","集計用（診療科情報）","リスト"],"not_rendered":{"charts":0,"images":1,"macros":1,"external_links":0,"defined_names":2,"comments":2,"pivot_tables":0},"unopened":[],"bounds":{"document_bytes":16777216,"sheet_cells":100000,"rows_first":2000,"rows_last":500,"rows_between":2000,"halvings":0,"cell_chars":16384,"cell_head_chars":4096},"cells_cut":0,"cells_raw":0,"read":"whole","date_system":"1900"}

{"sheet":"入力用","index":0,"n_rows":241,"n_cols":75,"rows_kept":241,"cut":false,"hidden":false,"merged":[[44,5,44,7],[44,9,44,11],[45,1,45,3],[45,5,45,7],[45,9,45,11],[164,2,164,12],[167,0,167,11],[151,1,155,13],[182,2,182,12],[88,2,88,12],[85,2,85,12],[113,2,113,12],[30,1,30,14],[17,1,17,5],[18,1,18,5],[14,6,14,10],[15,6,15,10],[16,6,16,10],[240,0,240,11],[49,1,49,3],[49,5,49,7],[49,9,49,11],[50,1,50,3],[50,5,50,7],[50,9,50,11],[51,1,51,3],[51,5,51,7],[51,9,51,11],[77,1,77,10],[44,1,44,3],[46,1,46,3],[46,5,46,7],[46,9,46,11],[47,1,47,3],[47,5,47,7],[47,9,47,11],[0,0,0,14],[28,1,29,14],[31,9,31,11],[43,9,43,11],[48,1,48,3],[48,5,48,7],[48,9,48,11],[40,9,40,11],[41,9,41,11],[42,9,42,11],[4,0,4,3],[8,2,8,3],[5,2,5,3],[6,2,6,3],[7,2,7,3],[5,0,8,1],[41,1,41,3],[35,5,35,7],[36,5,36,7],[37,5,37,7],[38,5,38,7],[39,5,39,7],[39,1,39,3],[16,1,16,5],[18,6,18,10],[20,0,20,10],[9,0,9,14],[13,1,13,5],[13,6,13,10],[14,1,14,5],[31,5,31,7],[31,1,31,3],[42,1,42,3],[41,5,41,7],[42,5,42,7],[40,5,40,7],[36,1,36,3],[37,1,37,3],[32,9,32,11],[33,9,33,11],[34,9,34,11],[32,5,32,7],[33,5,33,7],[34,5,34,7],[35,9,35,11],[36,9,36,11],[38,9,38,11],[39,9,39,11],[2,7,2,9],[8,4,8,13],[7,4,7,13],[6,4,6,13],[5,4,5,13],[4,4,4,13],[3,4,3,13],[2,10,2,13],[17,6,17,10],[189,2,189,12],[192,1,197,13],[210,1,215,13],[224,2,224,12],[232,1,237,13],[15,1,15,5],[2,0,2,3],[3,0,3,3],[33,1,33,3],[10,0,10,4],[53,0,53,8],[117,0,117,9],[75,2,75,12],[140,2,140,12],[100,1,104,13],[43,1,43,3],[43,5,43,7],[35,1,35,3],[37,9,37,11],[32,1,32,3],[38,1,38,3],[40,1,40,3],[34,1,34,3],[2,4,2,6]]}
["　　　　　　　　　　　　　　　　　　　　　　　　　　　医師の働き方改革の施行に関する実態調査票　　　　　　　　　　　　　　　　　　　　　　　　　",null,null,null,null,null,null,null,null,null,null,null,null,null,null,null,"種別","問1ｰ１","問1ｰ2","問1ｰ3","問1ｰ4","問2","問3","問４","問４-1-１","問４-1-２","問４-1-３","問４-1-４","問４-1-５","問４-1-６","問４-２","問４－３","問４－５－１","問４－５－２","問４－５－３","問４－５－４","問４－５－５","問４－５－６","問４－５－７","問５","問６","問６-１-１","問６-１-２","問６-１-３","問６-１-４","問６-１-５","問６-１-６","問６-１-７","問６-１-８","問６-２","問６－４－１","問６－４－２","問６－４－３","問６－４－４","問６－４－５","問６－４－６","問６－４－７","問７","問７-1-1","問７-1-2","問７-1-3","問７-1-4","問７-1-5","問７-２－１","問７-２－２","問７-２－３","問７-２－４","問７－３","問７-５-１","問７-５-２","問７-５-３","問７-５-４","問７-５-５","問７-５-６","問７-５-７"]
["※ラジオボタン　　の入力を取り消す場合、対象のラジオボタン上で右クリック「コントロールの書式設定」から「コントロール」を選択し、「値」を「オフ」に設定してください。"]
["医療機関種別【いずれか１つ選択】"]
["医療機関名"]
["医療機関コード（10桁）（※）"]
["ご担当者",null,"部署"]
[null,null,"氏名"]
[null,null,"電話番号"]
[null,null,"e-mail"]
["※医療機関コードとは、レセプト請求で使用する10桁の番号（「都道府県番号（2桁）」＋「点数区分番号（1桁）（医科：“１”）」＋「医療機関番号（7桁）」）です。医療機関番号（7桁）は地方厚生局ホームページでご確認いただけます。"]
["適用水準の対象医師数について"]
[]
["問１","令和６年４月時点における適用水準医師数【赤枠内に対象医師数を記載、該当しない場合0を記載】"]
[null,"水準",null,null,null,null,"対象医師数"]
[null,"Ｂ水準",null,null,null,null,null,null,null,null,null,"人"]
[null,"連携Ｂ水準",null,null,null,null,null,null,null,null,null,"人"]
[null,"Ｃｰ１水準（臨床研修医）",null,null,null,null,null,null,null,null,null,"人"]
[null,"Ｃｰ１水準（専攻医）",null,null,null,null,null,null,null,null,null,"人"]
[null,"Ｃｰ２水準",null,null,null,null,null,null,null,null,null,"人"]
[]
["医師の働き方改革に関連した引き揚げ（派遣医師数の減少）の状況について"]
[]
["問２","大学等の医療機関から派遣されている医師の働き方改革に関連した引き揚げ（派遣医師数の減少）の状況"]
[null,"【いずれか１つ選択。回答が「１」の場合は問２－１へ進む】"]
[]
[]
[]
[]
["問２－１","医師の働き方改革に関連した派遣医師数の減少があった診療科名と、常勤医師数※、非常勤医師の有無、それぞれの派遣元医療機関名"]
[]
[null,"※常勤医師とは労働契約上、１週間の勤務時間が32時間以上である医師"]
[null,"診療科名",null,null,"常勤医師の引き揚げ人数","派遣元医療機関名",null,null,"非常勤医師の引き揚げ有無","派遣元医療機関名"]
[1]
[2]
[3]
[4]
[5]
[6]
[7]
[8]
[9]
[10]
[11]
[12]
[13]
[14]
[15]
[16]
[17]
[18]
[19]
[20]
[]
["医師の働き方改革の施行に伴う救急医療提供体制への影響について"]
[]
["問３","三次救急医療機関、または二次救急医療機関（または救急告示医療機関）のいずれかに該当しますか。"]
[null,"【いずれか１つ選択】"]
[]
[]
[null,"（※問３の回答に関わらず、問４以降の質問もご回答ください）"]
[]
["問４","医師の働き方改革の施行に伴う医師の引き揚げや時間外・休日労働時間の上限規制等による自施設の"]
[null,"救急医療提供体制への影響(概ね令和６年１～５月に行ったもの)についてお尋ねします。"]
[null,"【いずれか１つ選択。回答が「１」又は「２」の場合は問４－１以降へ進む】"]
[]
[]
[]
[]
["問４－１","救急医療提供体制の縮小等の内容について、具体的にお尋ねします。【該当するもの全て選択】"]
[]
[]
[]
[]
[]
[]
[]
[]
["問４ー２","問４で「１」又は｢２｣を選択された、主たる理由をご回答ください。【いずれか１つ選択】"]
[]
[null,"　　 2. 貴医療機関における救急医療提供体制の縮小"]
[]
[]
[]
[]
[]
[]
[]
[]
[]
[]
[]
["問４－３","診療体制の縮小等による、地域の救急医療提供体制への影響についてお尋ねします。"]
[null,"【いずれか１つ選択。回答が「１」又は「３」の場合は問４－４へ進む】"]
[]
[]
[]
[]
["問４ー４","問４－３で「１」又は「３」を選択された、具体的な状況・理由をご回答ください。【赤枠内に記載】"]
[null,"例）時間外・休日労働時間が年１８６０時間に達するおそれのある循環器内科の医師に対して診療制限が必要であると考えるが、二次医療圏でその医"]
[null,"師のみが行えるカテーテル治療が行えなくなるため、今後、そのカテーテル治療を希望される本地域の患者は隣県の医療機関に移っていただく必要がある。"]
[]
[]
[]
[]
[]
[]
["問４－５","問４ー３で「１」又は「３」を選択された場合、貴院における今後の対応予定についてご回答ください。【該当するもの全て選択】"]
[]
[]
[]
[]
[]
[]
[]
[]
[]
[]
["医師の働き方改革の施行に伴う周産期医療提供体制への影響について"]
["分娩取扱施設のみお答えください。（分娩を取扱わない医療機関は問７へ進んでください。）"]
["問５","総合周産期母子医療センター、地域周産期母子医療センターに該当しますか。"]
[]
[]
[]
["（※問５の回答に関わらず、以降の質問もご回答ください）"]
["問６","医師の働き方改革の施行に伴う医師の引き揚げや時間外・休日労働時間の上限規制等による自施設の"]
[null,"周産期医療提供体制への影響(概ね令和６年１～５月に行ったもの)についてお尋ねします。"]
[null,"【いずれか１つ選択。回答が「１」又は「２」の場合は問６－１、問６－２へ進む】"]
[]
[]
[]
[]
["問６－１","周産期医療提供体制の縮小等の内容について、具体的にお尋ねします。【該当するもの全て選択】"]
[]
[]
[]
[]
[]
[]
[]
[]
[]
[]
["問６ー２","診療体制の縮小等による、地域の周産期医療提供体制への影響についてお尋ねします。"]
[null,"【いずれか１つ選択。回答が「１」又は「３」の場合は問６－３、問６－４へ進む】"]
[]
[]
[]
[]
[]
["問６－３","問６－2で「１」又は「３」を選択された、具体的な状況・理由をご回答ください。"]
[null,"例）ハイリスク妊娠の受け入れが困難になり、今後、ハイリスク妊娠の管理については本地域の患者は隣接する医療圏の医療機関に移っていただく必要がある。"]
[]
[]
[]
[]
[]
[]
["問６－４","問６－２で「１」又は「３」を選択された場合、貴院における今後の対応予定についてご回答ください。【該当するもの全て選択】"]
[]
[]
[]
[]
[]
[]
[]
[]
[]
["医師の働き方改革の施行に伴う診療体制（救急・周産期医療を除く）への影響について"]
[]
["問７","医師の働き方改革の施行に伴う医師の引き揚げや時間外・休日労働時間の上限規制等による自施設の"]
[null,"診療体制（救急・周産期医療を除く）への影響(概ね令和６年１～５月に行ったもの)についてお尋ねします。"]
[null,"【いずれか１つ選択。回答が「１」又は「２」の場合は問７－１以降へ進む】"]
[]
[]
[]
[]
["問７－１","診療体制の縮小等の内容について、具体的にお尋ねします。【該当するもの全て選択】"]
[]
[]
[]
[]
[]
[]
[]
["問７－２","問７－１で回答した選択肢に該当する診療科を選択し、具体的な影響と併せてご回答ください。【該当するもの全て選択】"]
[]
[]
[]
[]
[]
[null,"具体的な影響を以下の赤枠内に記載"]
[null,"例）(１.内科　を選択)　消化器内科において、派遣医師数の減少により、土曜日の消化器内科外来が隔週での診療となった。"]
[]
[]
[]
[]
[]
[]
[]
["問７－３","診療体制の縮小等による、地域の医療提供体制への影響についてお尋ねします。"]
[null,"【いずれか１つ選択。回答が「１」又は「３」の場合は問７－４、問７－５へ進む】"]
[]
[]
[]
[]
[]
["問７ー４","問７－３で「１」又は「３」を選択された、具体的な状況・理由をご回答ください。"]
[null,"具体的な状況・理由を以下の赤枠内に記載"]
[null,"例）時間外・休日労働時間が年１８６０時間に達するおそれがある循環器内科の医師の診療制限が必要であると考えるが、二次医療圏でその医師のみが行えるカテーテル治療が"]
[null,"　　　行えなくなるため、今後、そのカテーテル治療を希望される本地域の患者は隣県の医療機関に移っていただく必要がある。"]
[]
[]
[]
[]
[]
[]
[]
["問７－５","問７－３で「１」又は「３」を選択された場合、貴院における今後の対応予定についてご回答ください。【該当するもの全て選択】"]
[]
[]
[]
[]
[]
[]
[]
[]
[]
["その他"]
[]
["問８","医師の働き方改革の施行による医療提供体制の変化について、上記以外に貴院における"]
[null,"具体事例がございましたら記載してください。"]
[null,"自由記載欄"]
[]
[]
[]
[]
[]
[]
[]
[]
["調査は以上です。ご協力ありがとうございました。"]

{"sheet":"集計用（医療機関情報）","index":1,"n_rows":3,"n_cols":80,"rows_kept":3,"cut":false,"hidden":false,"merged":[[0,56,1,56],[0,55,1,55],[0,69,1,69],[0,68,1,68],[0,70,1,70],[0,71,1,77],[0,78,1,78],[0,79,1,79],[0,57,1,61],[0,62,1,62],[0,63,1,66],[0,67,1,67],[0,0,1,0],[0,14,1,14],[0,22,1,22],[0,13,1,13],[0,7,0,11],[0,1,1,1],[0,2,1,2],[0,3,1,3],[0,4,1,4],[0,5,1,5],[0,6,1,6],[0,15,1,20],[0,21,1,21],[0,12,1,12],[0,45,1,45],[0,47,1,47],[0,48,1,54],[0,23,1,23],[0,25,1,25],[0,26,1,26],[0,36,1,36],[0,37,1,44],[0,24,1,24],[0,35,1,35],[0,27,1,33],[0,34,1,34],[0,46,1,46]]}
["医療機関コード（10桁）","医療機関名","医療機関種別","ご担当者_部署","ご担当者_氏名","ご担当者_電話番号","ご担当者_e-mail","問１. 令和６年４月時点における適用水準医師数",null,null,null,null,"問２. 大学等の医療機関から派遣されている医師の働き方改革に関連した引き揚げ（派遣医師数の減少）の状況（回答が「１」の場合は問2－１へ進む）","問３　三次救急医療機関、または二次救急医療機関（または救急告示医療機関）のいずれかに該当しますか。","問４　医師の働き方改革の施行に伴う医師の引き揚げや時間外・休日労働時間の上限規制等による\n自施設の救急医療提供体制への影響(概ね令和６年１～５月に行ったもの)についてお尋ねします。（回答が「１」又は「２」の場合は問４－１へ進む）","問４－１　救急医療提供体制の縮小等の内容について、具体的にお尋ねします。（複数選択）",null,null,null,null,null,"問４ー１で「6.その他」を選択した際の記載内容","問４－２　問４で「１」又は「２」を選択された、主たる理由をご回答ください。","問４－２で「2－5 その他の縮小」を選択した際の記載内容","問4－2で「4.その他」を選択した際の記載内容","問４－３　診療体制の縮小等による、地域の救急医療提供体制への\n影響についてお尋ねします。（回答が「１」又は「３」の場合は問４－４へ進む）","問４－４　問４－３で「１」又は「３」を選択された、具体的な状況・理由をご回答ください。","問４－５ 問４－３で「１」又は「３」を選択された場合、貴院における今後の対応予定についてご回答ください。（複数選択）",null,null,null,null,null,null,"問４－５で「６. その他」を選択した際の記載内容","問５　総合周産期母子医療センター、地域周産期母子医療センターに該当しますか。","問６　医師の働き方改革の施行に伴う医師の引き揚げや時間外・休日労働時間の上限規制等による自施設の周産期医療提供体制への影響(概ね令和６年１～５月に行ったもの)についてお尋ねします。（回答が「１」又は「２」の場合は問６－１、問６－２へ進む）","問６－１　周産期医療提供体制の縮小等の内容について、具体的にお尋ねします。（複数選択）",null,null,null,null,null,null,null,"問６－1で「8.その他」を選択した際の記載内容","問６ー２　診療体制の縮小等による、地域の周産期医療提供体制への影響についてお尋ねします。（回答が「１」又は「３」の場合は問６－３、問６－４へ進む）","問６－３　問６－2で「１」又は「３」を選択された、具体的な状況・理由をご回答ください。","問６－４　問６－２で「１」又は「３」を選択された場合、貴院における今後の対応予定についてご回答ください。（複数選択）",null,null,null,null,null,null,"問６－４で「6.その他」を選択した際の記載内容","問７　医師の働き方改革の施行に伴う医師の引き揚げや時間外・休日労働時間の上限規制等による自施設の診療体制（救急・周産期医療を除く）への影響(概ね令和６年１～５月に行ったもの)についてお尋ねします。（回答が「１」又は「２」の場合は問７－１へ進む）","問７－１　診療体制の縮小等の内容について、具体的にお尋ねします。（複数選択）",null,null,null,null,"問７ー1で「5.その他」を選択した場合、具体的な記載内容","問７－２　問７－１で回答した選択肢に該当する診療科を選択し、具体的な影響と併せてご回答ください。（複数選択）",null,null,null,"問７－2で「その他」を選択した場合、その具体的記載内容","具体的な影響についての記載内容","問７－3　診療体制の縮小等による、地域の医療提供体制への影響についてお尋ねします。（回答が「１」又は「３」の場合は問７－４、問７－５へ進む）","問７－４　問７－３で「１」又は「３」を選択された、具体的な状況・理由をご回答ください。","問７－５　問７－３で「１」又は「３」を選択された場合、貴院における今後の対応予定についてご回答ください。（複数選択）",null,null,null,null,null,null,"問７－５で「その他」を選択した場合、その具体的内容を記載","問８　医師の働き方改革の施行による医療提供体制の変化について、上記以外に貴院における具体事例がございましたら記載してください。"]
[null,null,null,null,null,null,null,"Ｂ水準","連携Ｂ水準","Ｃｰ１水準\n（臨床研修医）","Ｃｰ１水準\n（専攻医）","Ｃｰ２水準"]
[{"$f":"入力用!E5","v":0},{"$f":"入力用!E4","v":0},{"$f":"IF(入力用!Q2=1,リスト!A2,IF(入力用!Q2=2,リスト!A3,IF(入力用!Q2=3,リスト!A4)))","v":false},{"$f":"入力用!E6","v":0},{"$f":"入力用!E7","v":0},{"$f":"入力用!E8","v":0},{"$f":"入力用!E9","v":0},{"$f":"入力用!G15","v":0},{"$f":"入力用!G16","v":0},{"$f":"入力用!G17","v":0},{"$f":"入力用!G18","v":0},{"$f":"入力用!G19","v":0},{"$f":"IF(入力用!V2=1,リスト!B2,IF(入力用!V2=2,リスト!B3,IF(入力用!V2=3,リスト!B4)))","v":false},{"$f":"IF(入力用!W2=1,リスト!C2,IF(入力用!W2=2,リスト!C3))","v":false},{"$f":"IF(入力用!X2=1,リスト!D2,IF(入力用!X2=2,リスト!D3,IF(入力用!X2=3,リスト!D4)))","v":false},{"$f":"IF(入力用!Y2=TRUE,リスト!E2,\"\")","v":""},{"$f":"IF(入力用!Z2=TRUE,リスト!E3,\"\")","v":""},{"$f":"IF(入力用!AA2=TRUE,リスト!E4,\"\")","v":""},{"$f":"IF(入力用!AB2=TRUE,リスト!E5,\"\")","v":""},{"$f":"IF(入力用!AC2=TRUE,リスト!E6,\"\")","v":""},{"$f":"IF(入力用!AD2=TRUE,リスト!E7,\"\")","v":""},{"$f":"入力用!C76","v":0},{"$f":"IF(入力用!AE2=1,リスト!F2,IF(入力用!AE2=2,リスト!F3,IF(入力用!AE2=3,リスト!F4,IF(入力用!AE2=4,リスト!F5,IF(入力用!AE2=5,リスト!F6,IF(入力用!AE2=6,リスト!F7,IF(入力用!AE2=7,リスト!F8,IF(入力用!AE2=8,リスト!F9,IF(入力用!AE2=9,リスト!F10)))))))))","v":false},{"$f":"入力用!C86","v":0},{"$f":"入力用!C89","v":0},{"$f":"IF(入力用!AF2=1,リスト!G2,IF(入力用!AF2=2,リスト!G3,IF(入力用!AF2=3,リスト!G4)))","v":false},{"$f":"入力用!B101","v":0},{"$f":"IF(入力用!AG2=TRUE,リスト!H2,\"\")","v":""},{"$f":"IF(入力用!AH2=TRUE,リスト!H3,\"\")","v":""},{"$f":"IF(入力用!AI2=TRUE,リスト!H4,\"\")","v":""},{"$f":"IF(入力用!AJ2=TRUE,リスト!H5,\"\")","v":""},{"$f":"IF(入力用!AK2=TRUE,リスト!H6,\"\")","v":""},{"$f":"IF(入力用!AL2=TRUE,リスト!H7,\"\")","v":""},{"$f":"IF(入力用!AM2=TRUE,リスト!H8,\"\")","v":""},{"$f":"入力用!C114","v":0},{"$f":"IF(入力用!AN2=1,リスト!I2,IF(入力用!AN2=2,リスト!I3))","v":false},{"$f":"IF(入力用!AO2=1,リスト!J2,IF(入力用!AO2=2,リスト!J3,IF(入力用!AO2=3,リスト!J4)))","v":false},{"$f":"IF(入力用!AP2=TRUE,リスト!K2,\"\")","v":""},{"$f":"IF(入力用!AQ2=TRUE,リスト!K3,\"\")","v":""},{"$f":"IF(入力用!AR2=TRUE,リスト!K4,\"\")","v":""},{"$f":"IF(入力用!AS2=TRUE,リスト!K5,\"\")","v":""},{"$f":"IF(入力用!AT2=TRUE,リスト!K6,\"\")","v":""},{"$f":"IF(入力用!AU2=TRUE,リスト!K7,\"\")","v":""},{"$f":"IF(入力用!AV2=TRUE,リスト!K8,\"\")","v":""},{"$f":"IF(入力用!AW2=TRUE,リスト!K9,\"\")","v":""},{"$f":"入力用!C141","v":0},{"$f":"IF(入力用!AX2=1,リスト!L2,IF(入力用!AX2=2,リスト!L3,IF(入力用!AX2=3,リスト!L4)))","v":false},{"$f":"入力用!B152","v":0},{"$f":"IF(入力用!AY2=TRUE,リスト!M2,\"\")","v":""},{"$f":"IF(入力用!AZ2=TRUE,リスト!M3,\"\")","v":""},{"$f":"IF(入力用!BA2=TRUE,リスト!M4,\"\")","v":""},{"$f":"IF(入力用!BB2=TRUE,リスト!M5,\"\")","v":""},{"$f":"IF(入力用!BC2=TRUE,リスト!M6,\"\")","v":""},{"$f":"IF(入力用!BD2=TRUE,リスト!M7,\"\")","v":""},{"$f":"IF(入力用!BE2=TRUE,リスト!M8,\"\")","v":""},{"$f":"入力用!C165","v":0},{"$f":"IF(入力用!BF2=1,リスト!N2,IF(入力用!BF2=2,リスト!N3,IF(入力用!BF2=3,リスト!N4)))","v":false},{"$f":"IF(入力用!BG2=TRUE,リスト!O2,\"\")","v":""},{"$f":"IF(入力用!BH2=TRUE,リスト!O3,\"\")","v":""},{"$f":"IF(入力用!BI2=TRUE,リスト!O4,\"\")","v":""},{"$f":"IF(入力用!BJ2=TRUE,リスト!O5,\"\")","v":""},{"$f":"IF(入力用!BK2=TRUE,リスト!O6,\"\")","v":""},{"$f":"入力用!C183","v":0},{"$f":"IF(入力用!BL2=TRUE,リスト!P2,\"\")","v":""},{"$f":"IF(入力用!BM2=TRUE,リスト!P3,\"\")","v":""},{"$f":"IF(入力用!BN2=TRUE,リスト!P4,\"\")","v":""},{"$f":"IF(入力用!BO2=TRUE,リスト!P5,\"\")","v":""},{"$f":"入力用!C190","v":0},{"$f":"入力用!B193","v":0},{"$f":"IF(入力用!BP2=1,リスト!Q2,IF(入力用!BP2=2,リスト!Q3,IF(入力用!BP2=3,リスト!Q4)))","v":false},{"$f":"入力用!B211","v":0},{"$f":"IF(入力用!BQ2=TRUE,リスト!R2,\"\")","v":""},{"$f":"IF(入力用!BR2=TRUE,リスト!R3,\"\")","v":""},{"$f":"IF(入力用!BS2=TRUE,リスト!R4,\"\")","v":""},{"$f":"IF(入力用!BT2=TRUE,リスト!R5,\"\")","v":""},{"$f":"IF(入力用!BU2=TRUE,リスト!R6,\"\")","v":""},{"$f":"IF(入力用!BV2=TRUE,リスト!R7,\"\")","v":""},{"$f":"IF(入力用!BW2=TRUE,リスト!R8,\"\")","v":""},{"$f":"入力用!C225","v":0},{"$f":"入力用!B233","v":0}]

{"sheet":"集計用（診療科情報）","index":2,"n_rows":21,"n_cols":8,"rows_kept":21,"cut":false,"hidden":false,"merged":[]}
["医療機関コード（10桁）","医療機関名","医療機関種別","問２－１.派遣医師数の減少があった診療科名","問２－１.派遣医師数の減少があった常勤医師数","問２－１.派遣元医療機関名(常勤)","問２－１.非常勤医師の派遣医師数の減少の有無","問２－１.派遣元医療機関名(非常勤)"]
[{"$f":"入力用!E5","v":0},{"$f":"入力用!E4","v":0},{"$f":"IF(入力用!Q2=1,リスト!A2,IF(入力用!Q2=2,リスト!A3,IF(入力用!Q2=3,リスト!A4)))","v":false},{"$f":"IF(入力用!B33=\"\",\"\",入力用!B33)","v":""},{"$f":"IF(入力用!E33=\"\",\"\",入力用!E33)","v":""},{"$f":"IF(入力用!F33=\"\",\"\",入力用!F33)","v":""},{"$f":"IF(入力用!I33=\"\",\"\",入力用!I33)","v":""},{"$f":"IF(入力用!J33=\"\",\"\",入力用!J33)","v":""}]
[{"$f":"IF(OR(B3<>\"\",C3<>\"\",D3<>\"\",E3<>\"\",F3<>\"\"),$A$2,\"\")","v":""},{"$f":"IF(OR(C3<>\"\",D3<>\"\",E3<>\"\",F3<>\"\",G3<>\"\"),$B$2,\"\")","v":""},{"$f":"IF(OR(D3<>\"\",E3<>\"\",F3<>\"\",G3<>\"\",H3<>\"\"),$C$2,\"\")","v":""},{"$f":"IF(入力用!B34=\"\",\"\",入力用!B34)","v":""},{"$f":"IF(入力用!E34=\"\",\"\",入力用!E34)","v":""},{"$f":"IF(入力用!F34=\"\",\"\",入力用!F34)","v":""},{"$f":"IF(入力用!I34=\"\",\"\",入力用!I34)","v":""},{"$f":"IF(入力用!J34=\"\",\"\",入力用!J34)","v":""}]
[{"$f":"IF(OR(B4<>\"\",C4<>\"\",D4<>\"\",E4<>\"\",F4<>\"\"),$A$2,\"\")","v":""},{"$f":"IF(OR(C4<>\"\",D4<>\"\",E4<>\"\",F4<>\"\",G4<>\"\"),$B$2,\"\")","v":""},{"$f":"IF(OR(D4<>\"\",E4<>\"\",F4<>\"\",G4<>\"\",H4<>\"\"),$C$2,\"\")","v":""},{"$f":"IF(入力用!B35=\"\",\"\",入力用!B35)","v":""},{"$f":"IF(入力用!E35=\"\",\"\",入力用!E35)","v":""},{"$f":"IF(入力用!F35=\"\",\"\",入力用!F35)","v":""},{"$f":"IF(入力用!I35=\"\",\"\",入力用!I35)","v":""},{"$f":"IF(入力用!J35=\"\",\"\",入力用!J35)","v":""}]
["","","",{"$f":"IF(入力用!B36=\"\",\"\",入力用!B36)","v":""},{"$f":"IF(入力用!E36=\"\",\"\",入力用!E36)","v":""},{"$f":"IF(入力用!F36=\"\",\"\",入力用!F36)","v":""},{"$f":"IF(入力用!I36=\"\",\"\",入力用!I36)","v":""},{"$f":"IF(入力用!J36=\"\",\"\",入力用!J36)","v":""}]
["","","",{"$f":"IF(入力用!B37=\"\",\"\",入力用!B37)","v":""},{"$f":"IF(入力用!E37=\"\",\"\",入力用!E37)","v":""},{"$f":"IF(入力用!F37=\"\",\"\",入力用!F37)","v":""},{"$f":"IF(入力用!I37=\"\",\"\",入力用!I37)","v":""},{"$f":"IF(入力用!J37=\"\",\"\",入力用!J37)","v":""}]
["","","",{"$f":"IF(入力用!B38=\"\",\"\",入力用!B38)","v":""},{"$f":"IF(入力用!E38=\"\",\"\",入力用!E38)","v":""},{"$f":"IF(入力用!F38=\"\",\"\",入力用!F38)","v":""},{"$f":"IF(入力用!I38=\"\",\"\",入力用!I38)","v":""},{"$f":"IF(入力用!J38=\"\",\"\",入力用!J38)","v":""}]
["","","",{"$f":"IF(入力用!B39=\"\",\"\",入力用!B39)","v":""},{"$f":"IF(入力用!E39=\"\",\"\",入力用!E39)","v":""},{"$f":"IF(入力用!F39=\"\",\"\",入力用!F39)","v":""},{"$f":"IF(入力用!I39=\"\",\"\",入力用!I39)","v":""},{"$f":"IF(入力用!J39=\"\",\"\",入力用!J39)","v":""}]
["","","",{"$f":"IF(入力用!B40=\"\",\"\",入力用!B40)","v":""},{"$f":"IF(入力用!E40=\"\",\"\",入力用!E40)","v":""},{"$f":"IF(入力用!F40=\"\",\"\",入力用!F40)","v":""},{"$f":"IF(入力用!I40=\"\",\"\",入力用!I40)","v":""},{"$f":"IF(入力用!J40=\"\",\"\",入力用!J40)","v":""}]
["","","",{"$f":"IF(入力用!B41=\"\",\"\",入力用!B41)","v":""},{"$f":"IF(入力用!E41=\"\",\"\",入力用!E41)","v":""},{"$f":"IF(入力用!F41=\"\",\"\",入力用!F41)","v":""},{"$f":"IF(入力用!I41=\"\",\"\",入力用!I41)","v":""},{"$f":"IF(入力用!J41=\"\",\"\",入力用!J41)","v":""}]
["","","",{"$f":"IF(入力用!B42=\"\",\"\",入力用!B42)","v":""},{"$f":"IF(入力用!E42=\"\",\"\",入力用!E42)","v":""},{"$f":"IF(入力用!F42=\"\",\"\",入力用!F42)","v":""},{"$f":"IF(入力用!I42=\"\",\"\",入力用!I42)","v":""},{"$f":"IF(入力用!J42=\"\",\"\",入力用!J42)","v":""}]
["","","",{"$f":"IF(入力用!B43=\"\",\"\",入力用!B43)","v":""},{"$f":"IF(入力用!E43=\"\",\"\",入力用!E43)","v":""},{"$f":"IF(入力用!F43=\"\",\"\",入力用!F43)","v":""},{"$f":"IF(入力用!I43=\"\",\"\",入力用!I43)","v":""},{"$f":"IF(入力用!J43=\"\",\"\",入力用!J43)","v":""}]
["","","",{"$f":"IF(入力用!B44=\"\",\"\",入力用!B44)","v":""},{"$f":"IF(入力用!E44=\"\",\"\",入力用!E44)","v":""},{"$f":"IF(入力用!F44=\"\",\"\",入力用!F44)","v":""},{"$f":"IF(入力用!I44=\"\",\"\",入力用!I44)","v":""},{"$f":"IF(入力用!J44=\"\",\"\",入力用!J44)","v":""}]
["","","",{"$f":"IF(入力用!B45=\"\",\"\",入力用!B45)","v":""},{"$f":"IF(入力用!E45=\"\",\"\",入力用!E45)","v":""},{"$f":"IF(入力用!F45=\"\",\"\",入力用!F45)","v":""},{"$f":"IF(入力用!I45=\"\",\"\",入力用!I45)","v":""},{"$f":"IF(入力用!J45=\"\",\"\",入力用!J45)","v":""}]
["","","",{"$f":"IF(入力用!B46=\"\",\"\",入力用!B46)","v":""},{"$f":"IF(入力用!E46=\"\",\"\",入力用!E46)","v":""},{"$f":"IF(入力用!F46=\"\",\"\",入力用!F46)","v":""},{"$f":"IF(入力用!I46=\"\",\"\",入力用!I46)","v":""},{"$f":"IF(入力用!J46=\"\",\"\",入力用!J46)","v":""}]
["","","",{"$f":"IF(入力用!B47=\"\",\"\",入力用!B47)","v":""},{"$f":"IF(入力用!E47=\"\",\"\",入力用!E47)","v":""},{"$f":"IF(入力用!F47=\"\",\"\",入力用!F47)","v":""},{"$f":"IF(入力用!I47=\"\",\"\",入力用!I47)","v":""},{"$f":"IF(入力用!J47=\"\",\"\",入力用!J47)","v":""}]
["","","",{"$f":"IF(入力用!B48=\"\",\"\",入力用!B48)","v":""},{"$f":"IF(入力用!E48=\"\",\"\",入力用!E48)","v":""},{"$f":"IF(入力用!F48=\"\",\"\",入力用!F48)","v":""},{"$f":"IF(入力用!I48=\"\",\"\",入力用!I48)","v":""},{"$f":"IF(入力用!J48=\"\",\"\",入力用!J48)","v":""}]
["","","",{"$f":"IF(入力用!B49=\"\",\"\",入力用!B49)","v":""},{"$f":"IF(入力用!E49=\"\",\"\",入力用!E49)","v":""},{"$f":"IF(入力用!F49=\"\",\"\",入力用!F49)","v":""},{"$f":"IF(入力用!I49=\"\",\"\",入力用!I49)","v":""},{"$f":"IF(入力用!J49=\"\",\"\",入力用!J49)","v":""}]
["","","",{"$f":"IF(入力用!B50=\"\",\"\",入力用!B50)","v":""},{"$f":"IF(入力用!E50=\"\",\"\",入力用!E50)","v":""},{"$f":"IF(入力用!F50=\"\",\"\",入力用!F50)","v":""},{"$f":"IF(入力用!I50=\"\",\"\",入力用!I50)","v":""},{"$f":"IF(入力用!J50=\"\",\"\",入力用!J50)","v":""}]
["","","",{"$f":"IF(入力用!B51=\"\",\"\",入力用!B51)","v":""},{"$f":"IF(入力用!E51=\"\",\"\",入力用!E51)","v":""},{"$f":"IF(入力用!F51=\"\",\"\",入力用!F51)","v":""},{"$f":"IF(入力用!I51=\"\",\"\",入力用!I51)","v":""},{"$f":"IF(入力用!J51=\"\",\"\",入力用!J51)","v":""}]
["","","",{"$f":"IF(入力用!B52=\"\",\"\",入力用!B52)","v":""},{"$f":"IF(入力用!E52=\"\",\"\",入力用!E52)","v":""},{"$f":"IF(入力用!F52=\"\",\"\",入力用!F52)","v":""},{"$f":"IF(入力用!I52=\"\",\"\",入力用!I52)","v":""},{"$f":"IF(入力用!J52=\"\",\"\",入力用!J52)","v":""}]

{"sheet":"リスト","index":3,"n_rows":10,"n_cols":18,"rows_kept":10,"cut":false,"hidden":false,"merged":[]}
["医療機関種別","問2","問３","問４","問4ー1","問4－２","問４－３","問４－５","問５","問６","問６－１","問６ー2","問６－４","問７","問７－１","問７－2","問７－３","問７－５"]
["病院","１. 派遣元医療機関からの派遣医師数が減少した","１.　該当する","１. 診療体制の縮小等を行った","１．救急の診療時間の縮小","１．周辺の医療機関における救急医療提供体制の充実","１. 自施設の診療体制の縮小等により、地域の救急医療提供体制の確保は困難となる見込み","１．現状では特に追加の対応は不要と考え、対応予定はない","１. 該当する","１.　診療体制の縮小等を行った","１．産科の診療時間の縮小","１. 自施設の診療体制の縮小等により、地域の周産期医療提供体制の確保は困難となる見込み","１．現状では特に追加の対応は不要と考え、対応予定はない","１. 診療体制の縮小等を行った","１．外来診療の縮小（診療時間の短縮、診療枠の削減　等）","1.　内科","１. 自施設の診療体制の縮小等により、地域の医療提供体制の確保は困難となる見込み","１．現状では特に追加の対応は不要と考え、対応予定はない"]
["有床診療所","２. 派遣医師数の減少はなかった","2.　該当しない","２. 診療体制の縮小等を行っていないが、縮小等を予定しており準備を進めている","２．救急対応を行う医師数の削減","２－１　派遣医師数の減少や異動による救急科の体制の縮小","2. 自施設の診療体制の縮小等を行っても、地域の救急医療提供体制は確保できる見込み","２．特例水準の指定申請を行う・考慮（検討）する","２. 該当しない","２. 診療体制の縮小等を行っていないが、縮小等を予定しており準備を進めている","２．産科対応を行う医師数の削減","2. 自施設の診療体制の縮小等を行っても、地域の周産期医療提供体制は確保できる見込み","２．特例水準の指定申請を行う・考慮（検討）する","２. 診療体制の縮小等を行っていないが、縮小等を予定しており準備を進めている","２．入院患者の受入の縮小","２. 外科","2. 自施設の診療体制の縮小等を行っても、地域の医療提供体制は確保できる見込み","２．特例水準の指定申請を行う・考慮（検討）する"]
["夜間休日急病診療所・\n休日急患診療所 等","３. 医師派遣は受けていない",null,"３. 診療体制の縮小等は行っていない（今後も予定していない）","３．救急当番日の見直し","２－２　救急科以外の診療科の体制縮減","3. 地域の救急医療提供体制への影響は不明","３．自院の医師の働き方の見直し（医師の雇用、タスク・シフト/シェア、ICTの活用　等）を行う・考慮（検討）する",null,"３. 診療体制の縮小等は行っていない（今後も予定していない）","３．分娩取扱の停止","3. 地域の周産期医療提供体制への影響は不明","３．自院の医師の働き方の見直し（医師の雇用、タスク・シフト/シェア、ICTの活用　等）を行う・考慮（検討）する","３. 診療体制の縮小等は行っていない（今後も予定していない）","３．手術症例の制限","３. 小児科","3. 地域の医療提供体制への影響は不明","３．自院の医師の働き方の見直し（医師の雇用、タスク・シフト/シェア、ICTの活用　等）を行う・考慮（検討）する"]
[null,null,null,null,"４．手術症例の制限","２－３　A水準を維持するための、救急車応需の差し控え",null,"４．都道府県等（勤務環境改善担当、救急担当　等）や医療勤務環境改善支援センターに相談を行う・考慮（検討）する",null,null,"４. オープン/セミオープンシステムの活用",null,"４．都道府県等（勤務環境改善担当、周産期担当）や医療勤務環境改善支援センターに相談を行う・考慮（検討）する",null,"４．診療科の廃止","４. その他",null,"４.  都道府県等（勤務環境改善担当）や医療勤務環境改善支援センターに相談を行う・考慮（検討）する"]
[null,null,null,null,"５．対応可能な診療科の制限","２－４　取得した宿日直許可の維持のために救急車応需の差し控えが必要と考えたため",null,"５．地域の医療機関間で救急医療提供体制の協議（輪番制の見直し、役割分担　等）の要請を行う・考慮（検討）する",null,null,"5. 分娩取扱数の削減",null,"５．地域の医療機関間で医療提供体制の協議（オープン/セミオープンシステムの活用、役割分担等）の要請を行う・考慮（検討）する",null,"５．その他　",null,null,"５．地域の医療機関間で医療提供体制の協議（輪番制の見直し、役割分担　等）の要請を行う・考慮（検討）する"]
[null,null,null,null,"６．その他","２－５　その他の縮小",null,"６．その他　　　　　　　　　　　　　　　　　　　　　　　　　　　　　　　　　　　　　　",null,null,"6．ハイリスク妊娠の受け入れ停止",null,"６．その他",null,null,null,null,"６．その他"]
[null,null,null,null,null,"3. 救急医療提供体制と関連のない理由（医療需要の変化、高齢者施設の減少 等）",null,"7．未定",null,null,"7．ハイリスク妊娠の受け入れ制限",null,"7．未定",null,null,null,null,"７. 未定"]
[null,null,null,null,null,"４. その他　　　　　　　　　　　　　　　　　　　　　　　　　　　　　　　　　　　",null,null,null,null,"8．その他　"]
[null,null,null,null,null,"５．不明"]